BEGIN:VCALENDAR
VERSION:2.0
PRODID:-//ChamberMaster//Event Calendar 2.0//EN
METHOD:PUBLISH
X-PUBLISHED-TTL:P3D
REFRESH-INTERVAL:P3D
CALSCALE:GREGORIAN
BEGIN:VEVENT
DTSTART:20251115T140000Z
DTEND:20251115T210000Z
X-MICROSOFT-CDO-ALLDAYEVENT:FALSE
SUMMARY:LU Murph Challenge
DESCRIPTION:1  MILE RUN\n\n100 PULL-UPS\n\n200 PUSH-UPS\n\n300 AIR SQUATS\n\n1 MILE RUN TO FINISH\n\n \n\nParticipants also wear a weighted vest equivalent to 20 pounds to represent the gear worn by soldiers in combat\n\n \n\nThe Murph Challenge is a fitness event that honors Lieutenant Michael P. Murphy\, a U.S. Navy SEAL officer who was killed in action in Afghanistan. Lieutenant Murphy was awarded the Medal of Honor for his heroic actions during Operation Red Wings where he sacrificed his life for the safety of his squad. The challenge was created to commemorate his selflessness\, sacrifice\, and dedication to service.
X-ALT-DESC;FMTTYPE=text/html:<div>&nbsp\;</div>\n\n<div><span style="font-size: 13px\;">1&nbsp\; MILE RUN</span></div>\n\n<div><span style="font-size: 13px\;">100 PULL-UPS</span></div>\n\n<div><span style="font-size: 13px\;">200 PUSH-UPS</span></div>\n\n<div><span style="font-size: 13px\;">300 AIR SQUATS</span></div>\n\n<div><span style="font-size: 13px\;">1 MILE RUN TO FINISH</span></div>\n\n<div><span style="font-size: 13px\;">&nbsp\;</span></div>\n\n<div><span style="font-size: 13px\;">Participants also wear a weighted vest equivalent to 20 pounds to represent the gear worn by soldiers in combat</span></div>\n\n<div>&nbsp\;</div>\n\n<div><span style="font-size: 13px\;">The Murph Challenge is a fitness event that honors Lieutenant Michael P. Murphy\, a U.S. Navy SEAL officer who was killed in action in Afghanistan. Lieutenant Murphy was awarded the Medal of Honor for his heroic actions during Operation Red Wings where he sacrificed his life for the safety of his squad. The challenge was created to commemorate his selflessness\, sacrifice\, and dedication to service.</span></div>\n
LOCATION:LIBERTY UNIVERSITY INDOOR TRACK COMPLEX Intramural Sports Complex | Indoor Track
UID:e.2276.9603
SEQUENCE:3
DTSTAMP:20260423T160934Z
URL:http://lynchburg.chambermaster.com/events/details/lu-murph-challenge-9603
END:VEVENT

END:VCALENDAR
